BEGIN:VCALENDAR
PRODID:-//eluceo/ical//2.0/EN
VERSION:2.0
CALSCALE:GREGORIAN
BEGIN:VEVENT
UID:ede2e0d58ea001a806a045e05caed8c5
DTSTAMP:20260422T192321Z
SUMMARY:Jewish Book Festival
DESCRIPTION:Jewish Federation of Greater Naples\nCommunity Calendar\nhttps:
 //jewishnaples.org/calendar/jewish-book-festival-30\n\nJewish Book Festiva
 l
DTSTART;TZID=America/New_York:20190124T130000
DTEND;TZID=America/New_York:20190124T163000
END:VEVENT
END:VCALENDAR
