BEGIN:VCALENDAR
PRODID:-//eluceo/ical//2.0/EN
VERSION:2.0
CALSCALE:GREGORIAN
BEGIN:VEVENT
UID:3060ee1f35d875f07baaf7dec82d8276
DTSTAMP:20260423T022121Z
SUMMARY:Jewish Book Festival
DESCRIPTION:Jewish Federation of Greater Naples\nCommunity Calendar\nhttps:
 //jewishnaples.org/calendar/jewish-book-festival-1\n\nJewish Book Festival
  Event\n\n11:30-2:00\n\nClick here for more details.
DTSTART;TZID=America/New_York:20171206T113000
DTEND;TZID=America/New_York:20171206T140000
END:VEVENT
END:VCALENDAR
