BEGIN:VCALENDAR
PRODID:-//eluceo/ical//2.0/EN
VERSION:2.0
CALSCALE:GREGORIAN
BEGIN:VEVENT
UID:7bab25f851cce51b3bc5fe699e63a4fa
DTSTAMP:20260419T222416Z
SUMMARY:JEWISH AMERICAN HERITAGE MONTH
DESCRIPTION:Jewish Federation of Greater Naples\nCommunity Calendar\nhttps:
 //jewishnaples.org/calendar/jewish-american-heritage-month-1762964841\n\nJ
 EWISH AMERICAN HERITAGE MONTH PRESENTATION
DTSTART;TZID=America/New_York:20260501T110000
DTEND;TZID=America/New_York:20260501T130000
END:VEVENT
END:VCALENDAR
