BEGIN:VCALENDAR
PRODID:-//eluceo/ical//2.0/EN
VERSION:2.0
CALSCALE:GREGORIAN
BEGIN:VEVENT
UID:7b2df777b3d841479b504b2a7a368395
DTSTAMP:20260423T094639Z
SUMMARY:JeWEL Society Mushroom Tasting
DESCRIPTION:Jewish Federation of Greater Naples\nCommunity Calendar\nhttps:
 //jewishnaples.org/calendar/jewel-society-mushroom-tasting-1755529419\n\nM
 ushroom tasting with Stropharia Mushroom Farm
DTSTART;TZID=America/New_York:20250824T170000
DTEND;TZID=America/New_York:20250824T190000
END:VEVENT
END:VCALENDAR
