BEGIN:VCALENDAR
PRODID:-//eluceo/ical//2.0/EN
VERSION:2.0
CALSCALE:GREGORIAN
BEGIN:VEVENT
UID:a140178b3d28a957256d962dc9085db2
DTSTAMP:20260425T040755Z
SUMMARY:JeWEL Society "Board Party"
DESCRIPTION:Jewish Federation of Greater Naples\nCommunity Calendar\nhttps:
 //jewishnaples.org/calendar/jewel-society-board-party-1773062198\n\nBring 
 a Kosher-style dairy board to share (feeds ~ 10 people) – cheese boards\
 , ice cream boards\, baked dairy treats\, or any fun dairy creation. (No m
 eat or shellfish\, please)\n\n \n\n \n\nShow off your board creativity 
 – sweet or savory!\n\n \n\n \n\nCome hang out\, snack and enjoy a rela
 xing night with other moms!\n\n \n\nOnce we receive your registration\, w
 e will email you a link to sign up for the delicious Dairy Board you'll sh
 are with the group.
DTSTART;TZID=America/New_York:20260322T180000
DTEND;TZID=America/New_York:20260322T200000
END:VEVENT
END:VCALENDAR
