BEGIN:VCALENDAR
PRODID:-//eluceo/ical//2.0/EN
VERSION:2.0
CALSCALE:GREGORIAN
BEGIN:VEVENT
UID:a6d4d1e196756a430b34b3433b05ca00
DTSTAMP:20260423T150404Z
SUMMARY:JeWel & PJ Library
DESCRIPTION:Jewish Federation of Greater Naples\nCommunity Calendar\nhttps:
 //jewishnaples.org/calendar/jewel--pj-library-1729707159\n\n
DTSTART;TZID=America/New_York:20241224T160000
DTEND;TZID=America/New_York:20241224T170000
END:VEVENT
END:VCALENDAR
