BEGIN:VCALENDAR
PRODID:-//eluceo/ical//2.0/EN
VERSION:2.0
CALSCALE:GREGORIAN
BEGIN:VEVENT
UID:7bd1fff0bbb79b0423fd984266e87a6a
DTSTAMP:20260423T153622Z
SUMMARY:JCRC & IOC Day of Learning
DESCRIPTION:Jewish Federation of Greater Naples\nCommunity Calendar\nhttps:
 //jewishnaples.org/calendar/jcrc--ioc-day-of-learning-1702397496\n\nDay of
  Learning
DTSTART;TZID=America/New_York:20240311T130000
DTEND;TZID=America/New_York:20240311T160000
END:VEVENT
END:VCALENDAR
