BEGIN:VCALENDAR
PRODID:-//eluceo/ical//2.0/EN
VERSION:2.0
CALSCALE:GREGORIAN
BEGIN:VEVENT
UID:77ffbd81589efdbc611d385d50f81a4c
DTSTAMP:20260420T104437Z
SUMMARY:JCMI's Jewish Film Festival
DESCRIPTION:Jewish Federation of Greater Naples\nCommunity Calendar\nhttps:
 //jewishnaples.org/calendar/jcmis-jewish-film-festival-1710955193\n\n24th 
 Season of the Sidney R. Hoffman’s Jewish Film Festival Reception to Foll
 ow the Film
DTSTART;TZID=America/New_York:20250316T140000
DTEND;TZID=America/New_York:20250316T170000
END:VEVENT
END:VCALENDAR
