BEGIN:VCALENDAR
PRODID:-//eluceo/ical//2.0/EN
VERSION:2.0
CALSCALE:GREGORIAN
BEGIN:VEVENT
UID:a852ee1690ebe15820a8bfb271d8e632
DTSTAMP:20260420T044844Z
SUMMARY:JCMI's Jewish Film Festival
DESCRIPTION:Jewish Federation of Greater Naples\nCommunity Calendar\nhttps:
 //jewishnaples.org/calendar/jcmis-jewish-film-festival-1710955003\n\n24th 
 Season of the Sidney R. Hoffman’s Jewish Film Festival Reception to Foll
 ow the Film
DTSTART;TZID=America/New_York:20250119T140000
DTEND;TZID=America/New_York:20250119T170000
END:VEVENT
END:VCALENDAR
