BEGIN:VCALENDAR
PRODID:-//eluceo/ical//2.0/EN
VERSION:2.0
CALSCALE:GREGORIAN
BEGIN:VEVENT
UID:c3223344fe1e8e21c303e73049192517
DTSTAMP:20260420T035632Z
SUMMARY:JCMI's Chess Club - Students K-12
DESCRIPTION:Jewish Federation of Greater Naples\nCommunity Calendar\nhttps:
 //jewishnaples.org/calendar/jcmis-chess-club---students-k-12-1686334412\n\
 nJCMI's Tuesday Chess Club - Students K-12
DTSTART;TZID=America/New_York:20230613T153000
DTEND;TZID=America/New_York:20230613T173000
END:VEVENT
END:VCALENDAR
