BEGIN:VCALENDAR
PRODID:-//eluceo/ical//2.0/EN
VERSION:2.0
CALSCALE:GREGORIAN
BEGIN:VEVENT
UID:08ffd5b7abeb29b1abd50e27b19f74c0
DTSTAMP:20260422T194939Z
SUMMARY:JCMI's  Jewish Film Festival
DESCRIPTION:Jewish Federation of Greater Naples\nCommunity Calendar\nhttps:
 //jewishnaples.org/calendar/jcmis--jewish-film-festival-1710954918\n\n24th
  Season of the Sidney R. Hoffman’s Jewish Film Festival Reception to Fol
 low the Film
DTSTART;TZID=America/New_York:20241215T140000
DTEND;TZID=America/New_York:20241215T170000
END:VEVENT
END:VCALENDAR
