BEGIN:VCALENDAR
PRODID:-//eluceo/ical//2.0/EN
VERSION:2.0
CALSCALE:GREGORIAN
BEGIN:VEVENT
UID:22ee1175e2936ed406577d2e841369e9
DTSTAMP:20260420T022513Z
SUMMARY:JCMI Yom Kippur Worship
DESCRIPTION:Jewish Federation of Greater Naples\nCommunity Calendar\nhttps:
 //jewishnaples.org/calendar/jcmi-yom-kippur-worship-1686332535\n\nJCMI Yom
  Kippur Worship
DTSTART;TZID=America/New_York:20230924T193000
DTEND;TZID=America/New_York:20230924T210000
END:VEVENT
END:VCALENDAR
