BEGIN:VCALENDAR
PRODID:-//eluceo/ical//2.0/EN
VERSION:2.0
CALSCALE:GREGORIAN
BEGIN:VEVENT
UID:3e25aeb8b5ff70c0544e910ec7c183b7
DTSTAMP:20260420T174141Z
SUMMARY:JCMI Yom Kippur Service
DESCRIPTION:Jewish Federation of Greater Naples\nCommunity Calendar\nhttps:
 //jewishnaples.org/calendar/jcmi-yom-kippur-service-1710958185\n\nJCMI wor
 ship for Yom Kippur with "Yizkor"
DTSTART;TZID=America/New_York:20241012T100000
DTEND;TZID=America/New_York:20241012T120000
END:VEVENT
END:VCALENDAR
