BEGIN:VCALENDAR
PRODID:-//eluceo/ical//2.0/EN
VERSION:2.0
CALSCALE:GREGORIAN
BEGIN:VEVENT
UID:7857289a446b9ae8b020f33fe40cc052
DTSTAMP:20260422T091818Z
SUMMARY:JCMI Yom Kippur Afternoon Service
DESCRIPTION:Jewish Federation of Greater Naples\nCommunity Calendar\nhttps:
 //jewishnaples.org/calendar/jcmi-yom-kippur-afternoon-service-1710958257\n
 \nJCMI Yom Kippur Afternoon Service
DTSTART;TZID=America/New_York:20241012T153000
DTEND;TZID=America/New_York:20241012T170000
END:VEVENT
END:VCALENDAR
