BEGIN:VCALENDAR
PRODID:-//eluceo/ical//2.0/EN
VERSION:2.0
CALSCALE:GREGORIAN
BEGIN:VEVENT
UID:45e03631e46c3fc39bbbcb8e79e3b2a6
DTSTAMP:20260423T110722Z
SUMMARY:JCMI Women's Book Club
DESCRIPTION:Jewish Federation of Greater Naples\nCommunity Calendar\nhttps:
 //jewishnaples.org/calendar/jcmi-womens-book-club-1686334041\n\nJCMI Women
 's Book Club
DTSTART;TZID=America/New_York:20240416T110000
DTEND;TZID=America/New_York:20240416T130000
END:VEVENT
END:VCALENDAR
