BEGIN:VCALENDAR
PRODID:-//eluceo/ical//2.0/EN
VERSION:2.0
CALSCALE:GREGORIAN
BEGIN:VEVENT
UID:e3fb2e5f79d7492a97fa95537654399b
DTSTAMP:20260423T110732Z
SUMMARY:JCMI Women's Book Club
DESCRIPTION:Jewish Federation of Greater Naples\nCommunity Calendar\nhttps:
 //jewishnaples.org/calendar/jcmi-womens-book-club-1686331468\n\nJCMI Women
 's Book Club
DTSTART;TZID=America/New_York:20240220T110000
DTEND;TZID=America/New_York:20240220T130000
END:VEVENT
END:VCALENDAR
