BEGIN:VCALENDAR
PRODID:-//eluceo/ical//2.0/EN
VERSION:2.0
CALSCALE:GREGORIAN
BEGIN:VEVENT
UID:30c784a52b0208d77eba9c13e69025fb
DTSTAMP:20260424T062343Z
SUMMARY:JCMI Tashlich Service
DESCRIPTION:Jewish Federation of Greater Naples\nCommunity Calendar\nhttps:
 //jewishnaples.org/calendar/jcmi-tashlich-service-1559744881\n\nJCMI Tashl
 ich Service
DTSTART;TZID=America/New_York:20191001T110000
DTEND;TZID=America/New_York:20191001T130000
END:VEVENT
END:VCALENDAR
