BEGIN:VCALENDAR
PRODID:-//eluceo/ical//2.0/EN
VERSION:2.0
CALSCALE:GREGORIAN
BEGIN:VEVENT
UID:66f42123e8ba85826259414a140d7837
DTSTAMP:20260422T082900Z
SUMMARY:JCMI Tashlich Ceremony
DESCRIPTION:Jewish Federation of Greater Naples\nCommunity Calendar\nhttps:
 //jewishnaples.org/calendar/jcmi-tashlich-ceremony-1686332317\n\nJCMI Tash
 lich Ceremony
DTSTART;TZID=America/New_York:20230917T110000
DTEND;TZID=America/New_York:20230917T120000
END:VEVENT
END:VCALENDAR
