BEGIN:VCALENDAR
PRODID:-//eluceo/ical//2.0/EN
VERSION:2.0
CALSCALE:GREGORIAN
BEGIN:VEVENT
UID:915b32c74afa85b5e5df714e3afe85de
DTSTAMP:20260422T153740Z
SUMMARY:JCMI Tashlich
DESCRIPTION:Jewish Federation of Greater Naples\nCommunity Calendar\nhttps:
 //jewishnaples.org/calendar/jcmi-tashlich\n\nJCMI
DTSTART;TZID=America/New_York:20161004T110000
DTEND;TZID=America/New_York:20161004T110000
END:VEVENT
END:VCALENDAR
