BEGIN:VCALENDAR
PRODID:-//eluceo/ical//2.0/EN
VERSION:2.0
CALSCALE:GREGORIAN
BEGIN:VEVENT
UID:73765fc0f775e103f964f609c5acdbc0
DTSTAMP:20260420T182221Z
SUMMARY:JCMI S'lichot Service
DESCRIPTION:Jewish Federation of Greater Naples\nCommunity Calendar\nhttps:
 //jewishnaples.org/calendar/jcmi-slichot-service-1710957695\n\nS'lichot De
 ssert Program & Service
DTSTART;TZID=America/New_York:20240928T200000
DTEND;TZID=America/New_York:20240928T220000
END:VEVENT
END:VCALENDAR
