BEGIN:VCALENDAR
PRODID:-//eluceo/ical//2.0/EN
VERSION:2.0
CALSCALE:GREGORIAN
BEGIN:VEVENT
UID:63bf2c67769e92ada2e691496d673c2e
DTSTAMP:20260423T133844Z
SUMMARY:JCMI S'lichot Dessert Program & Service
DESCRIPTION:Jewish Federation of Greater Naples\nCommunity Calendar\nhttps:
 //jewishnaples.org/calendar/jcmi-slichot-dessert-program--service-15581120
 40\n\nJCMI S'lichot Dessert Program & Service
DTSTART;TZID=America/New_York:20190921T200000
DTEND;TZID=America/New_York:20190921T220000
END:VEVENT
END:VCALENDAR
