BEGIN:VCALENDAR
PRODID:-//eluceo/ical//2.0/EN
VERSION:2.0
CALSCALE:GREGORIAN
BEGIN:VEVENT
UID:38d6ae9d18d91ad4462a3e75fd82d436
DTSTAMP:20260424T040220Z
SUMMARY:JCMI Sidney Hoffman JFF
DESCRIPTION:Jewish Federation of Greater Naples\nCommunity Calendar\nhttps:
 //jewishnaples.org/calendar/jcmi-sidney-hoffman-jff\n\nSidney Hoffman Jewi
 sh Film Festival
DTSTART;TZID=America/New_York:20260215T140000
DTEND;TZID=America/New_York:20260215T160000
END:VEVENT
END:VCALENDAR
