BEGIN:VCALENDAR
PRODID:-//eluceo/ical//2.0/EN
VERSION:2.0
CALSCALE:GREGORIAN
BEGIN:VEVENT
UID:48d49c348fe7cd47ce92ba0d66b91c01
DTSTAMP:20260420T073721Z
SUMMARY:JCMI Shabbat and Picnic
DESCRIPTION:Jewish Federation of Greater Naples\nCommunity Calendar\nhttps:
 //jewishnaples.org/calendar/jcmi-shabbat-and-picnic\n\nJCMI\n\nShabbat and
  Picnic
DTSTART;TZID=America/New_York:20170630T183000
DTEND;TZID=America/New_York:20170630T203000
END:VEVENT
END:VCALENDAR
