BEGIN:VCALENDAR
PRODID:-//eluceo/ical//2.0/EN
VERSION:2.0
CALSCALE:GREGORIAN
BEGIN:VEVENT
UID:799a6f3a8c0adc67b526a7281d7a1ae1
DTSTAMP:20260420T164344Z
SUMMARY:JCMI Rosh haShanah Morning Worship
DESCRIPTION:Jewish Federation of Greater Naples\nCommunity Calendar\nhttps:
 //jewishnaples.org/calendar/jcmi-rosh-hashanah-morning-worship-1686332244\
 n\nJCMI Rosh haShanah Morning Worship
DTSTART;TZID=America/New_York:20230916T100000
DTEND;TZID=America/New_York:20230916T120000
END:VEVENT
END:VCALENDAR
