BEGIN:VCALENDAR
PRODID:-//eluceo/ical//2.0/EN
VERSION:2.0
CALSCALE:GREGORIAN
BEGIN:VEVENT
UID:f16d3789a76e477503c5e298f900d046
DTSTAMP:20260421T221134Z
SUMMARY:JCMI Rosh haShanah Morning Services
DESCRIPTION:Jewish Federation of Greater Naples\nCommunity Calendar\nhttps:
 //jewishnaples.org/calendar/jcmi-rosh-hashanah-morning-services-1749071537
 \n\nJCMI Rosh haShanah Morning Services
DTSTART;TZID=America/New_York:20250923T100000
DTEND;TZID=America/New_York:20250923T120000
END:VEVENT
END:VCALENDAR
