BEGIN:VCALENDAR
PRODID:-//eluceo/ical//2.0/EN
VERSION:2.0
CALSCALE:GREGORIAN
BEGIN:VEVENT
UID:473adca24aac2edf8155ed053bae467f
DTSTAMP:20260423T143159Z
SUMMARY:JCMI Rosh haShanah Eve Service
DESCRIPTION:Jewish Federation of Greater Naples\nCommunity Calendar\nhttps:
 //jewishnaples.org/calendar/jcmi-rosh-hashanah-eve-service-1710957768\n\nW
 orship for Rosh haShanah Eve
DTSTART;TZID=America/New_York:20241002T193000
DTEND;TZID=America/New_York:20241002T220000
END:VEVENT
END:VCALENDAR
