BEGIN:VCALENDAR
PRODID:-//eluceo/ical//2.0/EN
VERSION:2.0
CALSCALE:GREGORIAN
BEGIN:VEVENT
UID:02c7670066e2d2a5d5ccbfd2c292275f
DTSTAMP:20260423T002350Z
SUMMARY:JCMI Rabbi's Life Learning Program Nov.
DESCRIPTION:Jewish Federation of Greater Naples\nCommunity Calendar\nhttps:
 //jewishnaples.org/calendar/jcmi-rabbis-life-learning-program-nov\n\nRabbi
 's Life Learning Program\n\nJCMI
DTSTART;TZID=America/New_York:20161113T093000
DTEND;TZID=America/New_York:20161113T093000
END:VEVENT
END:VCALENDAR
