BEGIN:VCALENDAR
PRODID:-//eluceo/ical//2.0/EN
VERSION:2.0
CALSCALE:GREGORIAN
BEGIN:VEVENT
UID:0f09f8d78219caa97c2b2622435d5855
DTSTAMP:20260423T101410Z
SUMMARY:JCMI Rabbi's Life Learning Program April 2018
DESCRIPTION:Jewish Federation of Greater Naples\nCommunity Calendar\nhttps:
 //jewishnaples.org/calendar/jcmi-rabbis-life-learning-program-april-2018\n
 \nJCMI\n\nRabbi's Life Learning Program
DTSTART;TZID=America/New_York:20180415T093000
DTEND;TZID=America/New_York:20180415T103000
END:VEVENT
END:VCALENDAR
