BEGIN:VCALENDAR
PRODID:-//eluceo/ical//2.0/EN
VERSION:2.0
CALSCALE:GREGORIAN
BEGIN:VEVENT
UID:d67d14ccab159c8cbed2c7d6155db3fb
DTSTAMP:20260424T014415Z
SUMMARY:JCMI Rabbi's Life Learning Program
DESCRIPTION:Jewish Federation of Greater Naples\nCommunity Calendar\nhttps:
 //jewishnaples.org/calendar/jcmi-rabbis-life-learning-program\n\nJCMI \n\
 nRabbi's Life Learning Program
DTSTART;TZID=America/New_York:20170917T093000
DTEND;TZID=America/New_York:20170917T103000
END:VEVENT
END:VCALENDAR
