BEGIN:VCALENDAR
PRODID:-//eluceo/ical//2.0/EN
VERSION:2.0
CALSCALE:GREGORIAN
BEGIN:VEVENT
UID:fb2e28f7cd553889d17028249a5eeac8
DTSTAMP:20260423T202134Z
SUMMARY:JCMI Rabbi's Life Learning
DESCRIPTION:Jewish Federation of Greater Naples\nCommunity Calendar\nhttps:
 //jewishnaples.org/calendar/jcmi-rabbis-life-learning\n\nJCMI
DTSTART;TZID=America/New_York:20161009T093000
DTEND;TZID=America/New_York:20161009T093000
END:VEVENT
END:VCALENDAR
