BEGIN:VCALENDAR
PRODID:-//eluceo/ical//2.0/EN
VERSION:2.0
CALSCALE:GREGORIAN
BEGIN:VEVENT
UID:8e74ee23d82633871f171b50904a782a
DTSTAMP:20260422T044318Z
SUMMARY:JCMI Purim Dinner March 2
DESCRIPTION:Jewish Federation of Greater Naples\nCommunity Calendar\nhttps:
 //jewishnaples.org/calendar/jcmi-purim-dinner-march-2\n\nJCMI\n\nPurim Din
 ner
DTSTART;TZID=America/New_York:20180302T183000
DTEND;TZID=America/New_York:20180302T203000
END:VEVENT
END:VCALENDAR
