BEGIN:VCALENDAR
PRODID:-//eluceo/ical//2.0/EN
VERSION:2.0
CALSCALE:GREGORIAN
BEGIN:VEVENT
UID:2564c90f533b0bf06990f374140939b4
DTSTAMP:20260423T074614Z
SUMMARY:JCMI Purim Dinner
DESCRIPTION:Jewish Federation of Greater Naples\nCommunity Calendar\nhttps:
 //jewishnaples.org/calendar/jcmi-purim-dinner-1526657614\n\nJCMI Purim Din
 ner
DTSTART;TZID=America/New_York:20190322T183000
DTEND;TZID=America/New_York:20190322T203000
END:VEVENT
END:VCALENDAR
