BEGIN:VCALENDAR
PRODID:-//eluceo/ical//2.0/EN
VERSION:2.0
CALSCALE:GREGORIAN
BEGIN:VEVENT
UID:37f608de71e811355f34439a34f0ccf7
DTSTAMP:20260422T054502Z
SUMMARY:JCMI POP Series - Elton John "Rocket Man"
DESCRIPTION:Jewish Federation of Greater Naples\nCommunity Calendar\nhttps:
 //jewishnaples.org/calendar/jcmi-pop-series---elton-john-rocket-man-165210
 8878\n\nPlease call the office at 239-642-0800 to purchase tickets.
DTSTART;TZID=America/New_York:20230311T193000
DTEND;TZID=America/New_York:20230311T213000
END:VEVENT
END:VCALENDAR
