BEGIN:VCALENDAR
PRODID:-//eluceo/ical//2.0/EN
VERSION:2.0
CALSCALE:GREGORIAN
BEGIN:VEVENT
UID:f2f30afdb914e3813cedd58d0fe3ceec
DTSTAMP:20260422T211643Z
SUMMARY:JCMI Passover Seider
DESCRIPTION:Jewish Federation of Greater Naples\nCommunity Calendar\nhttps:
 //jewishnaples.org/calendar/jcmi-passover-seider-1561036863\n\nJCMI\nPasso
 ver Seider
DTSTART;TZID=America/New_York:20200408T183000
DTEND;TZID=America/New_York:20200408T203000
END:VEVENT
END:VCALENDAR
