BEGIN:VCALENDAR
PRODID:-//eluceo/ical//2.0/EN
VERSION:2.0
CALSCALE:GREGORIAN
BEGIN:VEVENT
UID:e130d2e1423f836faa16d78a1a62b1ae
DTSTAMP:20260422T234601Z
SUMMARY:JCMI New Year Cemetery Visit
DESCRIPTION:Jewish Federation of Greater Naples\nCommunity Calendar\nhttps:
 //jewishnaples.org/calendar/jcmi-new-year-cemetery-visit-1559745001\n\nJCM
 I New Year Cemetery Visit
DTSTART;TZID=America/New_York:20191006T110000
DTEND;TZID=America/New_York:20191006T130000
END:VEVENT
END:VCALENDAR
