BEGIN:VCALENDAR
PRODID:-//eluceo/ical//2.0/EN
VERSION:2.0
CALSCALE:GREGORIAN
BEGIN:VEVENT
UID:c37482cdaae3f6fae7d6a5e486bb5a14
DTSTAMP:20260423T114144Z
SUMMARY:JCMI Motown Concert
DESCRIPTION:Jewish Federation of Greater Naples\nCommunity Calendar\nhttps:
 //jewishnaples.org/calendar/jcmi-motown-concert-1560868972\n\nJCMI\nMotown
  Concert
DTSTART;TZID=America/New_York:20200222T193000
DTEND;TZID=America/New_York:20200222T213000
END:VEVENT
END:VCALENDAR
