BEGIN:VCALENDAR
PRODID:-//eluceo/ical//2.0/EN
VERSION:2.0
CALSCALE:GREGORIAN
BEGIN:VEVENT
UID:6b26b8415aed6d6cd6a1ff8d792c545b
DTSTAMP:20260424T025655Z
SUMMARY:JCMI Monday Night Bingo
DESCRIPTION:Jewish Federation of Greater Naples\nCommunity Calendar\nhttps:
 //jewishnaples.org/calendar/jcmi-monday-night-bingo-1685977656\n\nMonday N
 ight Bingo
DTSTART;TZID=America/New_York:20231002T173000
DTEND;TZID=America/New_York:20231002T193000
END:VEVENT
END:VCALENDAR
