BEGIN:VCALENDAR
PRODID:-//eluceo/ical//2.0/EN
VERSION:2.0
CALSCALE:GREGORIAN
BEGIN:VEVENT
UID:65790961c01607d350035d3cd0bad519
DTSTAMP:20260423T201654Z
SUMMARY:JCMI Lifelong Learning
DESCRIPTION:Jewish Federation of Greater Naples\nCommunity Calendar\nhttps:
 //jewishnaples.org/calendar/jcmi-lifelong-learning-1586191768\n\nJCMI\nTa 
 Sh'ma Lifelong Learning\n9:30 am
DTSTART;TZID=America/New_York:20210221T093000
DTEND;TZID=America/New_York:20210221T113000
END:VEVENT
END:VCALENDAR
