BEGIN:VCALENDAR
PRODID:-//eluceo/ical//2.0/EN
VERSION:2.0
CALSCALE:GREGORIAN
BEGIN:VEVENT
UID:286257f8535c3c303c4489d07ebe3725
DTSTAMP:20260423T103922Z
SUMMARY:JCMI Kol Nidrei Dinner
DESCRIPTION:Jewish Federation of Greater Naples\nCommunity Calendar\nhttps:
 //jewishnaples.org/calendar/jcmi-kol-nidrei-dinner-1686332468\n\nJCMI Kol 
 Nidrei Dinner
DTSTART;TZID=America/New_York:20230924T173000
DTEND;TZID=America/New_York:20230924T190000
END:VEVENT
END:VCALENDAR
