BEGIN:VCALENDAR
PRODID:-//eluceo/ical//2.0/EN
VERSION:2.0
CALSCALE:GREGORIAN
BEGIN:VEVENT
UID:33fa2c266a70dc0779155209f35e3bdd
DTSTAMP:20260421T100413Z
SUMMARY:JCMI Jewish Film Festival Jan.
DESCRIPTION:Jewish Federation of Greater Naples\nCommunity Calendar\nhttps:
 //jewishnaples.org/calendar/jcmi-jewish-film-festival-jan\n\nJCMI Jewish F
 ilm Festival
DTSTART;TZID=America/New_York:20180114T140000
DTEND;TZID=America/New_York:20180114T160000
END:VEVENT
END:VCALENDAR
