BEGIN:VCALENDAR
PRODID:-//eluceo/ical//2.0/EN
VERSION:2.0
CALSCALE:GREGORIAN
BEGIN:VEVENT
UID:a416299c906c682cf97ccead066ece88
DTSTAMP:20260421T193448Z
SUMMARY:JCMI Jewish Film Festival
DESCRIPTION:Jewish Federation of Greater Naples\nCommunity Calendar\nhttps:
 //jewishnaples.org/calendar/jcmi-jewish-film-festival-5\n\nJewish Congrega
 tion of Marco Island\n\nJewish Film Festival
DTSTART;TZID=America/New_York:20181216T140000
DTEND;TZID=America/New_York:20181216T160000
END:VEVENT
END:VCALENDAR
