BEGIN:VCALENDAR
PRODID:-//eluceo/ical//2.0/EN
VERSION:2.0
CALSCALE:GREGORIAN
BEGIN:VEVENT
UID:ba285f4b31347432860112767bb5377b
DTSTAMP:20260420T151050Z
SUMMARY:JCMI Jewish Film Festival
DESCRIPTION:Jewish Federation of Greater Naples\nCommunity Calendar\nhttps:
 //jewishnaples.org/calendar/jcmi-jewish-film-festival-11\n\nJCMI\n\nJewish
  Film Festival
DTSTART;TZID=America/New_York:20190210T140000
DTEND;TZID=America/New_York:20190210T160000
END:VEVENT
END:VCALENDAR
