BEGIN:VCALENDAR
PRODID:-//eluceo/ical//2.0/EN
VERSION:2.0
CALSCALE:GREGORIAN
BEGIN:VEVENT
UID:ef8557df1aaa26a7b8f426ac28231197
DTSTAMP:20260420T151127Z
SUMMARY:JCMI Jewish Film Festival
DESCRIPTION:Jewish Federation of Greater Naples\nCommunity Calendar\nhttps:
 //jewishnaples.org/calendar/jcmi-jewish-film-festival-10\n\nJCMI Jewish Fi
 lm Festival
DTSTART;TZID=America/New_York:20190113T140000
DTEND;TZID=America/New_York:20190113T160000
END:VEVENT
END:VCALENDAR
