BEGIN:VCALENDAR
PRODID:-//eluceo/ical//2.0/EN
VERSION:2.0
CALSCALE:GREGORIAN
BEGIN:VEVENT
UID:b1fbc6a678b0e05515c479edd1d9b8ed
DTSTAMP:20260420T155056Z
SUMMARY:JCMI Jan. Cultural Series
DESCRIPTION:Jewish Federation of Greater Naples\nCommunity Calendar\nhttps:
 //jewishnaples.org/calendar/jcmi-jan-cultural-series\n\nJCMI\n\nCultural S
 eries
DTSTART;TZID=America/New_York:20180120T193000
DTEND;TZID=America/New_York:20180120T203000
END:VEVENT
END:VCALENDAR
