BEGIN:VCALENDAR
PRODID:-//eluceo/ical//2.0/EN
VERSION:2.0
CALSCALE:GREGORIAN
BEGIN:VEVENT
UID:a229eff1550d8784a58a8e87f4c0beca
DTSTAMP:20260422T125528Z
SUMMARY:JCMI Film Festival
DESCRIPTION:Jewish Federation of Greater Naples\nCommunity Calendar\nhttps:
 //jewishnaples.org/calendar/jcmi-film-festival-1686330013\n\nJCMI's 23rd S
 eason of the Sidney R. Hoffman Film Festival
DTSTART;TZID=America/New_York:20231217T140000
DTEND;TZID=America/New_York:20231217T163000
END:VEVENT
END:VCALENDAR
