BEGIN:VCALENDAR
PRODID:-//eluceo/ical//2.0/EN
VERSION:2.0
CALSCALE:GREGORIAN
BEGIN:VEVENT
UID:71505e760c0b99542286e6b5942b0a90
DTSTAMP:20260422T114803Z
SUMMARY:JCMI Film Festival
DESCRIPTION:Jewish Federation of Greater Naples\nCommunity Calendar\nhttps:
 //jewishnaples.org/calendar/jcmi-film-festival-1652108701\n\nThe 22nd Seas
 on of the Sidney R. Hoffman Memorial Film Festival at the JCMI.\n\nPlease 
 call the office at 239-642-0800 to purchase tickets.
DTSTART;TZID=America/New_York:20230212T140000
DTEND;TZID=America/New_York:20230212T160000
END:VEVENT
END:VCALENDAR
