BEGIN:VCALENDAR
PRODID:-//eluceo/ical//2.0/EN
VERSION:2.0
CALSCALE:GREGORIAN
BEGIN:VEVENT
UID:efeb6dc7eb1a64be18aec8a2e9674ee1
DTSTAMP:20260423T052747Z
SUMMARY:JCMI FILM FESTIVAL
DESCRIPTION:Jewish Federation of Greater Naples\nCommunity Calendar\nhttps:
 //jewishnaples.org/calendar/jcmi-film-festival-1563721940\n\nAn 80-year-ol
 d translator (Ali) comes across a book written by a former SS officer reco
 unting his war experiences in Slovakia. He realizes that one of the chapte
 rs may well describe his own parents’ execution. And so\, armed with a p
 istol\, he sets off to Vienna to look for the SS man and take his revenge.
  But once there\, the only person he encounters is the man’s 70-year-old
  son Georg\, a former teacher who has spent his whole life avoiding his fa
 ther and suffering from an addiction to...
DTSTART;TZID=America/New_York:20200315T140000
DTEND;TZID=America/New_York:20200315T160000
END:VEVENT
END:VCALENDAR
