BEGIN:VCALENDAR
PRODID:-//eluceo/ical//2.0/EN
VERSION:2.0
CALSCALE:GREGORIAN
BEGIN:VEVENT
UID:82758a6692652f0e6950ca1e3f83c915
DTSTAMP:20260424T022344Z
SUMMARY:JCMI Family Passover Seider
DESCRIPTION:Jewish Federation of Greater Naples\nCommunity Calendar\nhttps:
 //jewishnaples.org/calendar/jcmi-family-passover-seider-1526660674\n\nJCMI
  Family Passover Seider
DTSTART;TZID=America/New_York:20190419T183000
DTEND;TZID=America/New_York:20190419T203000
END:VEVENT
END:VCALENDAR
