BEGIN:VCALENDAR
PRODID:-//eluceo/ical//2.0/EN
VERSION:2.0
CALSCALE:GREGORIAN
BEGIN:VEVENT
UID:97fea0b41dc5c6179be75f054b4bfad5
DTSTAMP:20260423T171426Z
SUMMARY:JCMI Erev Rosh Hashanah Service
DESCRIPTION:Jewish Federation of Greater Naples\nCommunity Calendar\nhttps:
 //jewishnaples.org/calendar/jcmi-erev-rosh-hashanah-service-1558112178\n\n
 JCMI Erev Rosh Hashanah Service
DTSTART;TZID=America/New_York:20190929T193000
DTEND;TZID=America/New_York:20190929T213000
END:VEVENT
END:VCALENDAR
