BEGIN:VCALENDAR
PRODID:-//eluceo/ical//2.0/EN
VERSION:2.0
CALSCALE:GREGORIAN
BEGIN:VEVENT
UID:d76db64d737f32e4d392a89ede0dd349
DTSTAMP:20260422T132621Z
SUMMARY:JCMI Eagles Tribute Concert
DESCRIPTION:Jewish Federation of Greater Naples\nCommunity Calendar\nhttps:
 //jewishnaples.org/calendar/jcmi-eagles-tribute-concert-1560950607\n\nCont
 act JCMI to purchase tickets
DTSTART;TZID=America/New_York:20200321T193000
DTEND;TZID=America/New_York:20200321T213000
END:VEVENT
END:VCALENDAR
